BEGIN:VCALENDAR
VERSION:2.0
PRODID:-//Synagogen-Gemeinde Köln - ECPv6.12.0.1//NONSGML v1.0//EN
CALSCALE:GREGORIAN
METHOD:PUBLISH
X-WR-CALNAME:Synagogen-Gemeinde Köln
X-ORIGINAL-URL:https://www.sgk.de
X-WR-CALDESC:Veranstaltungen für Synagogen-Gemeinde Köln
REFRESH-INTERVAL;VALUE=DURATION:PT1H
X-Robots-Tag:noindex
X-PUBLISHED-TTL:PT1H
BEGIN:VTIMEZONE
TZID:Europe/Berlin
BEGIN:DAYLIGHT
TZOFFSETFROM:+0100
TZOFFSETTO:+0200
TZNAME:CEST
DTSTART:20240331T010000
END:DAYLIGHT
BEGIN:STANDARD
TZOFFSETFROM:+0200
TZOFFSETTO:+0100
TZNAME:CET
DTSTART:20241027T010000
END:STANDARD
END:VTIMEZONE
BEGIN:VEVENT
DTSTART;TZID=Europe/Berlin:20240225T160000
DTEND;TZID=Europe/Berlin:20240225T160000
DTSTAMP:20260423T172158
CREATED:20240131T095920Z
LAST-MODIFIED:20240307T190310Z
UID:10000206-1708876800-1708876800@www.sgk.de
SUMMARY:YAEL  BADASH DUO - LADINO. LIEBE.
DESCRIPTION:Die jüdische-spanische Vokal- Artistin Yael Badash\, in siebter Generation Mitglied einer spanisch-jüdischen Familie\, wurde in Israel geboren und ist Musikerin\, Gründerin und Leadsängerin der Electro-Acoustic Folk Band “Baladino”. Sie hat sich in der Ladino-Tradition zu einer frischen und international anerkannten Stimme entwickelt. Durch ihre umfangreichen Auftritte in ganz Europa\, Asien und Nordamerika öffnet sie die alten Melodien für moderne Ohren. \nVon der Chicago Tribune als “Unvergessliche\, ausdrucksstarke Stimme\, eine Virtuosin ihrer raren Kunst” bezeichnet\, wurzelt ihr improvisatorischer Gesangsstil tief in ihrem eigenen multikulturellen Erbe mit Einflüssen westlicher\, türkischer und nordafrikanischer Music. Durch ihre Ausbildung im zeitgenössischen Theater überschreitet sie diese selten gesprochene Ladino- Sprache\, die aus das 15. Jahrhundert zurückgeht\, um die reiche Oralgeschichte zeitloser Lieder zu entdecken. \nYael gewann auch verschiedene Preise und Auszeichnungen\, u.a.den ersten Preis beim internationalen “Festiladino”. Yael trat dem jugoslawischen Komponisten Goran Bregovic als Solist für „My Heart Has Become Tolerant“ bei\, ein Projekt\, das vom Festival für geistliche Musik in St. Denis in Auftrag gegeben wurde. 2016 veröffentlichte sie in Israel das von ihm arrangierte Album Koferi\, das aus hebräischen Bregovic-Liedern bestand. \nEintritt \n– Kostenlos für Gemeindemitglieder\n– 5\,- € für Nichtgemeindemitglieder \nwww.yaelbadash.com\, baladino.com
URL:https://www.sgk.de/termin/yael-badash-duo-ladino-liebe/
LOCATION:Synagogen-Gemeinde Köln\, Roonstraße 50\, Köln\, 50674
CATEGORIES:Gespräch,Konzert,Synagoge,Veranstaltung
ATTACH;FMTTYPE=image/jpeg:https://www.sgk.de/wp-content/uploads/Yael-Badash.jpg
ORGANIZER;CN="Synagogen-Gemeinde K%C3%B6ln":MAILTO:info@sgk.de
GEO:50.931854;6.936493
X-APPLE-STRUCTURED-LOCATION;VALUE=URI;X-ADDRESS=Synagogen-Gemeinde Köln Roonstraße 50 Köln 50674;X-APPLE-RADIUS=500;X-TITLE=Roonstraße 50:geo:6.936493,50.931854
END:VEVENT
END:VCALENDAR